BEGIN:VCALENDAR
VERSION:2.0
PRODID:-//This Is Kingsport, Kingsport, Tennessee - ECPv6.15.20//NONSGML v1.0//EN
CALSCALE:GREGORIAN
METHOD:PUBLISH
X-ORIGINAL-URL:https://thisiskingsport.com
X-WR-CALDESC:Events for This Is Kingsport, Kingsport, Tennessee
REFRESH-INTERVAL;VALUE=DURATION:PT1H
X-Robots-Tag:noindex
X-PUBLISHED-TTL:PT1H
BEGIN:VTIMEZONE
TZID:America/New_York
BEGIN:DAYLIGHT
TZOFFSETFROM:-0500
TZOFFSETTO:-0400
TZNAME:EDT
DTSTART:20250309T070000
END:DAYLIGHT
BEGIN:STANDARD
TZOFFSETFROM:-0400
TZOFFSETTO:-0500
TZNAME:EST
DTSTART:20251102T060000
END:STANDARD
BEGIN:DAYLIGHT
TZOFFSETFROM:-0500
TZOFFSETTO:-0400
TZNAME:EDT
DTSTART:20260308T070000
END:DAYLIGHT
BEGIN:STANDARD
TZOFFSETFROM:-0400
TZOFFSETTO:-0500
TZNAME:EST
DTSTART:20261101T060000
END:STANDARD
BEGIN:DAYLIGHT
TZOFFSETFROM:-0500
TZOFFSETTO:-0400
TZNAME:EDT
DTSTART:20270314T070000
END:DAYLIGHT
BEGIN:STANDARD
TZOFFSETFROM:-0400
TZOFFSETTO:-0500
TZNAME:EST
DTSTART:20271107T060000
END:STANDARD
END:VTIMEZONE
BEGIN:VEVENT
DTSTART;TZID=America/New_York:20260522T100000
DTEND;TZID=America/New_York:20260522T103000
DTSTAMP:20260425T101106
CREATED:20260422T070733Z
LAST-MODIFIED:20260425T075059Z
UID:10011248-1779444000-1779445800@thisiskingsport.com
SUMMARY:Herpetarium Keeper Talk
DESCRIPTION:Come meet our animal care staff and learn a little bit about our resident amphibians and reptiles. This is a free program. Pre-registration is not required.
URL:https://thisiskingsport.com/event/herpetarium-keeper-talk-268/
CATEGORIES:Free Event,Nature Event
ATTACH;FMTTYPE=image/webp:https://thisiskingsport.com/wp-content/uploads/2026/01/BMP-Program-Headers-845-x-321-px-5-1-fVeaKW.webp
END:VEVENT
BEGIN:VEVENT
DTSTART;TZID=America/New_York:20260522T100000
DTEND;TZID=America/New_York:20260522T140000
DTSTAMP:20260425T101106
CREATED:20260407T181013Z
LAST-MODIFIED:20260407T181013Z
UID:10011177-1779444000-1779458400@thisiskingsport.com
SUMMARY:Public Works Day
DESCRIPTION:Public Works Day will be held during National Public Works Week (May 17-May 23) – a week-long celebration started by the American Public Works Association in 1960 to show the public the importance of public works in their daily lives. \nAll divisions within public works will be represented and employees will be on hand to demonstrate the equipment and answer questions from the public. \n 
URL:https://thisiskingsport.com/event/public-works-day/
LOCATION:Kingsport Farmers Market\, 308 Clinchfield St\, Kingsport\, TN\, 37660\, United States
CATEGORIES:Community,Education,family,Popular Events,Special Event
ATTACH;FMTTYPE=image/jpeg:https://thisiskingsport.com/wp-content/uploads/2026/04/2026-PW-Day-Invite.jpg
GEO:36.5515259;-82.5648644
X-APPLE-STRUCTURED-LOCATION;VALUE=URI;X-ADDRESS=Kingsport Farmers Market 308 Clinchfield St Kingsport TN 37660 United States;X-APPLE-RADIUS=500;X-TITLE=308 Clinchfield St:geo:-82.5648644,36.5515259
END:VEVENT
BEGIN:VEVENT
DTSTART;TZID=America/New_York:20260522T133000
DTEND;TZID=America/New_York:20260522T140000
DTSTAMP:20260425T101106
CREATED:20260422T070733Z
LAST-MODIFIED:20260425T075059Z
UID:10011249-1779456600-1779458400@thisiskingsport.com
SUMMARY:Fox Keeper Talk
DESCRIPTION:Come and meet our animal care staff and learn a little about our furry fox friends\, Jamie and Sabra. This is a free program. Pre-registration is not required.
URL:https://thisiskingsport.com/event/fox-keeper-talk-176/
CATEGORIES:Free Event,Nature Event
ATTACH;FMTTYPE=image/webp:https://thisiskingsport.com/wp-content/uploads/2026/01/BMP-Program-Headers-845-x-321-px-3-1.png-QNKtvB.webp
END:VEVENT
END:VCALENDAR