BEGIN:VCALENDAR
VERSION:2.0
PRODID:-//This Is Kingsport, Kingsport, Tennessee - ECPv6.15.20//NONSGML v1.0//EN
CALSCALE:GREGORIAN
METHOD:PUBLISH
X-ORIGINAL-URL:https://thisiskingsport.com
X-WR-CALDESC:Events for This Is Kingsport, Kingsport, Tennessee
REFRESH-INTERVAL;VALUE=DURATION:PT1H
X-Robots-Tag:noindex
X-PUBLISHED-TTL:PT1H
BEGIN:VTIMEZONE
TZID:America/New_York
BEGIN:DAYLIGHT
TZOFFSETFROM:-0500
TZOFFSETTO:-0400
TZNAME:EDT
DTSTART:20250309T070000
END:DAYLIGHT
BEGIN:STANDARD
TZOFFSETFROM:-0400
TZOFFSETTO:-0500
TZNAME:EST
DTSTART:20251102T060000
END:STANDARD
BEGIN:DAYLIGHT
TZOFFSETFROM:-0500
TZOFFSETTO:-0400
TZNAME:EDT
DTSTART:20260308T070000
END:DAYLIGHT
BEGIN:STANDARD
TZOFFSETFROM:-0400
TZOFFSETTO:-0500
TZNAME:EST
DTSTART:20261101T060000
END:STANDARD
BEGIN:DAYLIGHT
TZOFFSETFROM:-0500
TZOFFSETTO:-0400
TZNAME:EDT
DTSTART:20270314T070000
END:DAYLIGHT
BEGIN:STANDARD
TZOFFSETFROM:-0400
TZOFFSETTO:-0500
TZNAME:EST
DTSTART:20271107T060000
END:STANDARD
END:VTIMEZONE
BEGIN:VEVENT
DTSTART;TZID=America/New_York:20260319T160000
DTEND;TZID=America/New_York:20260321T230000
DTSTAMP:20260419T125721
CREATED:20260106T210103Z
LAST-MODIFIED:20260106T210103Z
UID:10010475-1773936000-1774134000@thisiskingsport.com
SUMMARY:Bluegrass in the Blue Ridge
DESCRIPTION: THE MOUNTAINS ARE CALLING! Join us in Kingsport\, TN! \nThere’s nothing quite like live music in the mountains. Bluegrass in the Blue Ridge Country Getaway is coming to Kingsport\, Tennessee\, this March 19th–21st\, 2026!\nThis isn’t just a festival; it’s a family reunion. Between the world-class picking and the beautiful mountain views\, you’ll find the kind of moments that stay with you long after the last note is played.\n Music You Can Feel: Our lineup features artists who bring heart\, soul\, and years of tradition to the stage. They are storytellers and master pickers who know how to connect with an audience. Every set is honest\, powerful\, and meant to be enjoyed together.\n A Festival That Feels Like Family: Ask anyone who’s been—this is where strangers become friends. Surrounded by the beauty of the Blue Ridge\, it’s a place where memories are made and traditions are passed down.\n TICKETS & INFORMATION: Give us a call to secure your spot!  (919) 779-5672 Ext 1\n WHERE: Kingsport\, TN  WHEN: March 19th–21st\, 2026
URL:https://thisiskingsport.com/event/bluegrass-in-the-blue-ridge/
LOCATION:MeadowView Conference Resort & Convention Center\, 1901 Meadowview Pkwy\, Kingsport\, TN\, 37660\, United States
CATEGORIES:Concert,Music
ATTACH;FMTTYPE=image/jpeg:https://thisiskingsport.com/wp-content/uploads/2026/01/bluegrass.jpg
GEO:36.5068112;-82.5672522
X-APPLE-STRUCTURED-LOCATION;VALUE=URI;X-ADDRESS=MeadowView Conference Resort & Convention Center 1901 Meadowview Pkwy Kingsport TN 37660 United States;X-APPLE-RADIUS=500;X-TITLE=1901 Meadowview Pkwy:geo:-82.5672522,36.5068112
END:VEVENT
END:VCALENDAR