BEGIN:VCALENDAR
VERSION:2.0
PRODID:-//This Is Kingsport, Kingsport, Tennessee - ECPv6.15.20//NONSGML v1.0//EN
CALSCALE:GREGORIAN
METHOD:PUBLISH
X-ORIGINAL-URL:https://thisiskingsport.com
X-WR-CALDESC:Events for This Is Kingsport, Kingsport, Tennessee
REFRESH-INTERVAL;VALUE=DURATION:PT1H
X-Robots-Tag:noindex
X-PUBLISHED-TTL:PT1H
BEGIN:VTIMEZONE
TZID:America/New_York
BEGIN:DAYLIGHT
TZOFFSETFROM:-0500
TZOFFSETTO:-0400
TZNAME:EDT
DTSTART:20250309T070000
END:DAYLIGHT
BEGIN:STANDARD
TZOFFSETFROM:-0400
TZOFFSETTO:-0500
TZNAME:EST
DTSTART:20251102T060000
END:STANDARD
BEGIN:DAYLIGHT
TZOFFSETFROM:-0500
TZOFFSETTO:-0400
TZNAME:EDT
DTSTART:20260308T070000
END:DAYLIGHT
BEGIN:STANDARD
TZOFFSETFROM:-0400
TZOFFSETTO:-0500
TZNAME:EST
DTSTART:20261101T060000
END:STANDARD
BEGIN:DAYLIGHT
TZOFFSETFROM:-0500
TZOFFSETTO:-0400
TZNAME:EDT
DTSTART:20270314T070000
END:DAYLIGHT
BEGIN:STANDARD
TZOFFSETFROM:-0400
TZOFFSETTO:-0500
TZNAME:EST
DTSTART:20271107T060000
END:STANDARD
END:VTIMEZONE
BEGIN:VEVENT
DTSTART;TZID=America/New_York:20260417T190000
DTEND;TZID=America/New_York:20260417T220000
DTSTAMP:20260422T055319
CREATED:20260328T155139Z
LAST-MODIFIED:20260328T155139Z
UID:10011068-1776452400-1776463200@thisiskingsport.com
SUMMARY:Gabriel Knows Everything @ Gypsy Circus
DESCRIPTION:Live Music!
URL:https://thisiskingsport.com/event/gabriel-knows-everything-gypsy-circus/
LOCATION:Gypsy Circus Cider Company\, 2645 Fort Henry Drive\, Kingsport\, TN\, 37664\, United States
CATEGORIES:Music
ATTACH;FMTTYPE=image/jpeg:https://thisiskingsport.com/wp-content/uploads/2026/03/626959988_122188669238574087_5602713074755915544_n.jpg
GEO:36.5200164;-82.5179284
X-APPLE-STRUCTURED-LOCATION;VALUE=URI;X-ADDRESS=Gypsy Circus Cider Company 2645 Fort Henry Drive Kingsport TN 37664 United States;X-APPLE-RADIUS=500;X-TITLE=2645 Fort Henry Drive:geo:-82.5179284,36.5200164
END:VEVENT
BEGIN:VEVENT
DTSTART;TZID=America/New_York:20260411T190000
DTEND;TZID=America/New_York:20260411T220000
DTSTAMP:20260422T055319
CREATED:20260328T160230Z
LAST-MODIFIED:20260328T160230Z
UID:10011070-1775934000-1775944800@thisiskingsport.com
SUMMARY:Heart & Dagger Band @ Gypsy Circus
DESCRIPTION:Hard rock lovers need to come to this one!!
URL:https://thisiskingsport.com/event/heart-dagger-band-gypsy-circus/
LOCATION:Gypsy Circus Cider Company\, 2645 Fort Henry Drive\, Kingsport\, TN\, 37664\, United States
CATEGORIES:Music
ATTACH;FMTTYPE=image/jpeg:https://thisiskingsport.com/wp-content/uploads/2026/03/627206147_122188667462574087_8032799189081472522_n.jpg
GEO:36.5200164;-82.5179284
X-APPLE-STRUCTURED-LOCATION;VALUE=URI;X-ADDRESS=Gypsy Circus Cider Company 2645 Fort Henry Drive Kingsport TN 37664 United States;X-APPLE-RADIUS=500;X-TITLE=2645 Fort Henry Drive:geo:-82.5179284,36.5200164
END:VEVENT
BEGIN:VEVENT
DTSTART;TZID=America/New_York:20260410T190000
DTEND;TZID=America/New_York:20260410T220000
DTSTAMP:20260422T055319
CREATED:20260328T154350Z
LAST-MODIFIED:20260328T154350Z
UID:10011064-1775847600-1775858400@thisiskingsport.com
SUMMARY:Marcus Bunch @ Gypsy Circus
DESCRIPTION:Marcus Bunch debuts at Gypsy Circus in Kingsport doing songs — out loud — on purpose — with feelin Singer-Songwriter / Folk Rock / Americana No Cover 
URL:https://thisiskingsport.com/event/marcus-bunch-gypsy-circus/
LOCATION:Gypsy Circus Cider Company\, 2645 Fort Henry Drive\, Kingsport\, TN\, 37664\, United States
CATEGORIES:Music
ATTACH;FMTTYPE=image/jpeg:https://thisiskingsport.com/wp-content/uploads/2026/03/624725933_1501262575332846_523424350969441544_n.jpg
GEO:36.5200164;-82.5179284
X-APPLE-STRUCTURED-LOCATION;VALUE=URI;X-ADDRESS=Gypsy Circus Cider Company 2645 Fort Henry Drive Kingsport TN 37664 United States;X-APPLE-RADIUS=500;X-TITLE=2645 Fort Henry Drive:geo:-82.5179284,36.5200164
END:VEVENT
BEGIN:VEVENT
DTSTART;TZID=America/New_York:20260403T190000
DTEND;TZID=America/New_York:20260403T220000
DTSTAMP:20260422T055319
CREATED:20260328T160849Z
LAST-MODIFIED:20260401T145653Z
UID:10011074-1775242800-1775253600@thisiskingsport.com
SUMMARY:Banjo Bar-Bee & The Buzz @ Gypsy Circus
DESCRIPTION:Live band!
URL:https://thisiskingsport.com/event/banjo-bar-bee-the-buzz-gypsy-circus/
LOCATION:Gypsy Circus Cider Company\, 2645 Fort Henry Drive\, Kingsport\, TN\, 37664\, United States
CATEGORIES:Music,Text and Email Delivery
ATTACH;FMTTYPE=image/jpeg:https://thisiskingsport.com/wp-content/uploads/2026/03/629715317_1541485347708801_7020253859702530811_n.jpg
GEO:36.5200164;-82.5179284
X-APPLE-STRUCTURED-LOCATION;VALUE=URI;X-ADDRESS=Gypsy Circus Cider Company 2645 Fort Henry Drive Kingsport TN 37664 United States;X-APPLE-RADIUS=500;X-TITLE=2645 Fort Henry Drive:geo:-82.5179284,36.5200164
END:VEVENT
BEGIN:VEVENT
DTSTART;TZID=America/New_York:20260327T190000
DTEND;TZID=America/New_York:20260327T220000
DTSTAMP:20260422T055319
CREATED:20260302T005356Z
LAST-MODIFIED:20260302T005356Z
UID:10010875-1774638000-1774648800@thisiskingsport.com
SUMMARY:Greg Goulds Band @ Gypsy Circus
DESCRIPTION:Live band!
URL:https://thisiskingsport.com/event/greg-goulds-band-gypsy-circus/
LOCATION:Gypsy Circus Cider Company\, 2645 Fort Henry Drive\, Kingsport\, TN\, 37664\, United States
CATEGORIES:Music
ATTACH;FMTTYPE=image/jpeg:https://thisiskingsport.com/wp-content/uploads/2026/03/627859721_122188668344574087_8948763576893286917_n.jpg
GEO:36.5200164;-82.5179284
X-APPLE-STRUCTURED-LOCATION;VALUE=URI;X-ADDRESS=Gypsy Circus Cider Company 2645 Fort Henry Drive Kingsport TN 37664 United States;X-APPLE-RADIUS=500;X-TITLE=2645 Fort Henry Drive:geo:-82.5179284,36.5200164
END:VEVENT
END:VCALENDAR